Package: qpgraph Version: 2.42.0 Command: /home/biocbuild/R/R/bin/R CMD INSTALL qpgraph StartedAt: 2025-10-13 20:58:09 -0000 (Mon, 13 Oct 2025) EndedAt: 2025-10-13 20:59:26 -0000 (Mon, 13 Oct 2025) EllapsedTime: 77.4 seconds RetCode: 0 Status: OK