Package: qpgraph Version: 2.42.0 Command: /home/biocbuild/R/R/bin/R CMD build --keep-empty-dirs --no-resave-data qpgraph StartedAt: 2025-10-14 03:45:33 -0000 (Tue, 14 Oct 2025) EndedAt: 2025-10-14 03:50:49 -0000 (Tue, 14 Oct 2025) EllapsedTime: 316.1 seconds RetCode: 0 Status: OK PackageFile: qpgraph_2.42.0.tar.gz PackageFileSize: 2.667 MiB