Package: qckitfastq Version: 1.24.0 Command: /home/biocbuild/bbs-3.21-bioc/R/bin/R CMD build --keep-empty-dirs --no-resave-data qckitfastq StartedAt: 2025-10-15 19:16:55 -0400 (Wed, 15 Oct 2025) EndedAt: 2025-10-15 19:17:33 -0400 (Wed, 15 Oct 2025) EllapsedTime: 38.0 seconds RetCode: 0 Status: OK PackageFile: qckitfastq_1.24.0.tar.gz PackageFileSize: 979 KiB