Package: qckitfastq Version: 1.24.0 Command: /home/biocbuild/R/R/bin/R CMD INSTALL qckitfastq StartedAt: 2025-10-13 20:25:40 -0000 (Mon, 13 Oct 2025) EndedAt: 2025-10-13 20:26:07 -0000 (Mon, 13 Oct 2025) EllapsedTime: 27.7 seconds RetCode: 0 Status: OK