Package: pwalign Version: 1.4.0 Command: /home/biocbuild/R/R/bin/R CMD INSTALL pwalign StartedAt: 2025-10-13 21:06:43 -0000 (Mon, 13 Oct 2025) EndedAt: 2025-10-13 21:07:05 -0000 (Mon, 13 Oct 2025) EllapsedTime: 22.6 seconds RetCode: 0 Status: OK