Package: projectR Version: 1.24.0 Command: /home/biocbuild/bbs-3.21-bioc/R/bin/R CMD build --keep-empty-dirs --no-resave-data projectR StartedAt: 2025-10-15 19:14:11 -0400 (Wed, 15 Oct 2025) EndedAt: 2025-10-15 19:16:07 -0400 (Wed, 15 Oct 2025) EllapsedTime: 116.1 seconds RetCode: 0 Status: OK PackageFile: projectR_1.24.0.tar.gz PackageFileSize: 5.895 MiB