Package: projectR Version: 1.24.0 Command: /home/biocbuild/R/R/bin/R CMD INSTALL projectR StartedAt: 2025-10-13 20:34:04 -0000 (Mon, 13 Oct 2025) EndedAt: 2025-10-13 20:34:53 -0000 (Mon, 13 Oct 2025) EllapsedTime: 48.9 seconds RetCode: 0 Status: OK