Package: projectR Version: 1.24.0 Command: /home/biocbuild/R/R/bin/R CMD build --keep-empty-dirs --no-resave-data projectR StartedAt: 2025-10-14 03:40:27 -0000 (Tue, 14 Oct 2025) EndedAt: 2025-10-14 03:42:20 -0000 (Tue, 14 Oct 2025) EllapsedTime: 113.0 seconds RetCode: 0 Status: OK PackageFile: projectR_1.24.0.tar.gz PackageFileSize: 5.58 MiB