Package: profileScoreDist Version: 1.36.0 Command: chmod a+r profileScoreDist -R && E:\biocbuild\bbs-3.21-bioc\R\bin\R.exe CMD build --keep-empty-dirs --no-resave-data profileScoreDist StartedAt: 2025-08-14 21:25:34 -0400 (Thu, 14 Aug 2025) EndedAt: 2025-08-14 21:26:07 -0400 (Thu, 14 Aug 2025) EllapsedTime: 33.0 seconds RetCode: 0 Status: OK PackageFile: profileScoreDist_1.36.0.tar.gz PackageFileSize: 188.1 KiB