Package: profileScoreDist Version: 1.36.0 Command: rm -rf profileScoreDist.buildbin-libdir && mkdir profileScoreDist.buildbin-libdir && E:\biocbuild\bbs-3.21-bioc\R\bin\R.exe CMD INSTALL --build --library=profileScoreDist.buildbin-libdir profileScoreDist_1.36.0.tar.gz StartedAt: 2025-08-15 09:59:01 -0400 (Fri, 15 Aug 2025) EndedAt: 2025-08-15 10:00:38 -0400 (Fri, 15 Aug 2025) EllapsedTime: 97.0 seconds RetCode: 0 Status: OK PackageFile: profileScoreDist_1.36.0.zip PackageFileSize: 679.9 KiB