Package: profileScoreDist Version: 1.36.0 Command: /home/biocbuild/bbs-3.21-bioc/R/bin/R CMD build --keep-empty-dirs --no-resave-data profileScoreDist StartedAt: 2025-10-15 19:13:57 -0400 (Wed, 15 Oct 2025) EndedAt: 2025-10-15 19:14:15 -0400 (Wed, 15 Oct 2025) EllapsedTime: 18.0 seconds RetCode: 0 Status: OK PackageFile: profileScoreDist_1.36.0.tar.gz PackageFileSize: 187.5 KiB