Package: profileScoreDist Version: 1.36.0 Command: /Library/Frameworks/R.framework/Resources/bin/R CMD INSTALL profileScoreDist StartedAt: 2025-10-13 15:36:51 -0400 (Mon, 13 Oct 2025) EndedAt: 2025-10-13 15:37:02 -0400 (Mon, 13 Oct 2025) EllapsedTime: 11.3 seconds RetCode: 0 Status: OK