Package: profileScoreDist Version: 1.36.0 Command: /Library/Frameworks/R.framework/Resources/bin/R CMD build --keep-empty-dirs --no-resave-data profileScoreDist StartedAt: 2025-10-14 06:54:32 -0400 (Tue, 14 Oct 2025) EndedAt: 2025-10-14 06:54:57 -0400 (Tue, 14 Oct 2025) EllapsedTime: 25.0 seconds RetCode: 1 Status: ERROR PackageFile: None PackageFileSize: NA