Package: procoil Version: 2.36.0 Command: /home/biocbuild/R/R/bin/R CMD build --keep-empty-dirs --no-resave-data procoil StartedAt: 2025-10-14 03:39:43 -0000 (Tue, 14 Oct 2025) EndedAt: 2025-10-14 03:40:33 -0000 (Tue, 14 Oct 2025) EllapsedTime: 50.0 seconds RetCode: 0 Status: OK PackageFile: procoil_2.36.0.tar.gz PackageFileSize: 1.298 MiB