Package: proDA Version: 1.22.1 Command: /home/biocbuild/bbs-3.21-bioc/R/bin/R CMD build --keep-empty-dirs --no-resave-data proDA StartedAt: 2025-10-15 19:13:44 -0400 (Wed, 15 Oct 2025) EndedAt: 2025-10-15 19:15:04 -0400 (Wed, 15 Oct 2025) EllapsedTime: 80.1 seconds RetCode: 0 Status: OK PackageFile: proDA_1.22.1.tar.gz PackageFileSize: 1.351 MiB