Package: proDA Version: 1.22.1 Command: /Library/Frameworks/R.framework/Resources/bin/R CMD build --keep-empty-dirs --no-resave-data proDA StartedAt: 2025-10-14 06:53:59 -0400 (Tue, 14 Oct 2025) EndedAt: 2025-10-14 06:55:37 -0400 (Tue, 14 Oct 2025) EllapsedTime: 97.9 seconds RetCode: 0 Status: OK PackageFile: proDA_1.22.1.tar.gz PackageFileSize: 1.252 MiB