Package: proBAMr Version: 1.42.0 Command: /home/biocbuild/bbs-3.21-bioc/R/bin/R CMD build --keep-empty-dirs --no-resave-data proBAMr StartedAt: 2025-10-15 19:13:00 -0400 (Wed, 15 Oct 2025) EndedAt: 2025-10-15 19:14:09 -0400 (Wed, 15 Oct 2025) EllapsedTime: 69.0 seconds RetCode: 0 Status: OK PackageFile: proBAMr_1.42.0.tar.gz PackageFileSize: 814.1 KiB