Package: proBAMr Version: 1.42.0 Command: /home/biocbuild/R/R/bin/R CMD INSTALL proBAMr StartedAt: 2025-10-13 20:55:04 -0000 (Mon, 13 Oct 2025) EndedAt: 2025-10-13 20:55:56 -0000 (Mon, 13 Oct 2025) EllapsedTime: 51.9 seconds RetCode: 0 Status: OK