Package: proBAMr Version: 1.42.0 Command: /home/biocbuild/R/R/bin/R CMD build --keep-empty-dirs --no-resave-data proBAMr StartedAt: 2025-10-14 03:38:48 -0000 (Tue, 14 Oct 2025) EndedAt: 2025-10-14 03:40:25 -0000 (Tue, 14 Oct 2025) EllapsedTime: 97.0 seconds RetCode: 0 Status: OK PackageFile: proBAMr_1.42.0.tar.gz PackageFileSize: 810.1 KiB