Package: proBAMr Version: 1.42.0 Command: /Library/Frameworks/R.framework/Resources/bin/R CMD INSTALL proBAMr StartedAt: 2025-10-13 17:19:03 -0400 (Mon, 13 Oct 2025) EndedAt: 2025-10-13 17:19:46 -0400 (Mon, 13 Oct 2025) EllapsedTime: 42.9 seconds RetCode: 0 Status: OK