Package: preprocessCore Version: 1.70.0 Command: /home/biocbuild/R/R/bin/R CMD check --install=check:preprocessCore.install-out.txt --library=/home/biocbuild/R/R/site-library --no-vignettes --timings preprocessCore_1.70.0.tar.gz StartedAt: 2025-10-14 12:42:56 -0000 (Tue, 14 Oct 2025) EndedAt: 2025-10-14 12:43:15 -0000 (Tue, 14 Oct 2025) EllapsedTime: 18.0 seconds RetCode: 0 Status: WARNINGS CheckDir: preprocessCore.Rcheck Warnings: 2