Package: preprocessCore Version: 1.70.0 Command: /home/biocbuild/R/R/bin/R CMD build --keep-empty-dirs --no-resave-data preprocessCore StartedAt: 2025-10-14 03:38:15 -0000 (Tue, 14 Oct 2025) EndedAt: 2025-10-14 03:38:16 -0000 (Tue, 14 Oct 2025) EllapsedTime: 1.0 seconds RetCode: 0 Status: OK PackageFile: preprocessCore_1.70.0.tar.gz PackageFileSize: 121.2 KiB