Package: preprocessCore Version: 1.70.0 Command: rm -rf preprocessCore.buildbin-libdir && mkdir preprocessCore.buildbin-libdir && /Users/biocbuild/BBS/utils/build-universal.sh preprocessCore_1.70.0.tar.gz /Library/Frameworks/R.framework/Resources/bin/R preprocessCore.buildbin-libdir StartedAt: 2025-10-15 19:50:42 -0400 (Wed, 15 Oct 2025) EndedAt: 2025-10-15 19:51:06 -0400 (Wed, 15 Oct 2025) EllapsedTime: 24.7 seconds RetCode: 0 Status: OK PackageFile: preprocessCore_1.70.0.tgz PackageFileSize: 162.3 KiB