Package: preciseTAD Version: 1.18.0 Command: /Library/Frameworks/R.framework/Resources/bin/R CMD INSTALL preciseTAD StartedAt: 2025-10-13 16:52:28 -0400 (Mon, 13 Oct 2025) EndedAt: 2025-10-13 16:53:22 -0400 (Mon, 13 Oct 2025) EllapsedTime: 53.9 seconds RetCode: 0 Status: OK