Package: preciseTAD Version: 1.18.0 Command: /Library/Frameworks/R.framework/Resources/bin/R CMD build --keep-empty-dirs --no-resave-data preciseTAD StartedAt: 2025-10-14 06:50:27 -0400 (Tue, 14 Oct 2025) EndedAt: 2025-10-14 06:57:57 -0400 (Tue, 14 Oct 2025) EllapsedTime: 449.7 seconds RetCode: 0 Status: OK PackageFile: preciseTAD_1.18.0.tar.gz PackageFileSize: 4.073 MiB