Package: powerTCR Version: 1.28.0 Command: /home/biocbuild/bbs-3.21-bioc/R/bin/R CMD INSTALL powerTCR StartedAt: 2025-10-15 15:05:52 -0400 (Wed, 15 Oct 2025) EndedAt: 2025-10-15 15:06:31 -0400 (Wed, 15 Oct 2025) EllapsedTime: 38.8 seconds RetCode: 0 Status: OK