Package: powerTCR Version: 1.28.0 Command: /home/biocbuild/R/R/bin/R CMD build --keep-empty-dirs --no-resave-data powerTCR StartedAt: 2025-10-14 03:36:30 -0000 (Tue, 14 Oct 2025) EndedAt: 2025-10-14 03:37:06 -0000 (Tue, 14 Oct 2025) EllapsedTime: 36.0 seconds RetCode: 0 Status: OK PackageFile: powerTCR_1.28.0.tar.gz PackageFileSize: 380.7 KiB