Package: powerTCR Version: 1.28.0 Command: /Library/Frameworks/R.framework/Resources/bin/R CMD INSTALL powerTCR StartedAt: 2025-10-13 15:18:16 -0400 (Mon, 13 Oct 2025) EndedAt: 2025-10-13 15:18:35 -0400 (Mon, 13 Oct 2025) EllapsedTime: 18.8 seconds RetCode: 0 Status: OK