Package: podkat Version: 1.40.0 Command: /home/biocbuild/R/R/bin/R CMD INSTALL podkat StartedAt: 2025-10-13 20:42:49 -0000 (Mon, 13 Oct 2025) EndedAt: 2025-10-13 20:44:40 -0000 (Mon, 13 Oct 2025) EllapsedTime: 110.5 seconds RetCode: 0 Status: OK