Package: pmm Version: 1.40.0 Command: /home/biocbuild/R/R/bin/R CMD INSTALL pmm StartedAt: 2025-10-13 20:22:12 -0000 (Mon, 13 Oct 2025) EndedAt: 2025-10-13 20:22:30 -0000 (Mon, 13 Oct 2025) EllapsedTime: 18.0 seconds RetCode: 0 Status: OK