Package: pmm Version: 1.40.0 Command: /home/biocbuild/R/R/bin/R CMD build --keep-empty-dirs --no-resave-data pmm StartedAt: 2025-10-14 03:34:50 -0000 (Tue, 14 Oct 2025) EndedAt: 2025-10-14 03:35:24 -0000 (Tue, 14 Oct 2025) EllapsedTime: 34.0 seconds RetCode: 0 Status: OK PackageFile: pmm_1.40.0.tar.gz PackageFileSize: 765.3 KiB