Package: plotgardener Version: 1.14.0 Command: /Library/Frameworks/R.framework/Resources/bin/R CMD build --keep-empty-dirs --no-resave-data plotgardener StartedAt: 2025-10-14 06:39:47 -0400 (Tue, 14 Oct 2025) EndedAt: 2025-10-14 06:41:17 -0400 (Tue, 14 Oct 2025) EllapsedTime: 89.8 seconds RetCode: 0 Status: OK PackageFile: plotgardener_1.14.0.tar.gz PackageFileSize: 2.848 MiB