Package: plotgardener Version: 1.14.0 Command: rm -rf plotgardener.buildbin-libdir && mkdir plotgardener.buildbin-libdir && /Users/biocbuild/BBS/utils/build-universal.sh plotgardener_1.14.0.tar.gz /Library/Frameworks/R.framework/Resources/bin/R plotgardener.buildbin-libdir StartedAt: 2025-10-15 19:48:15 -0400 (Wed, 15 Oct 2025) EndedAt: 2025-10-15 19:49:20 -0400 (Wed, 15 Oct 2025) EllapsedTime: 64.5 seconds RetCode: 0 Status: OK PackageFile: plotgardener_1.14.0.tgz PackageFileSize: 3.629 MiB