Package: plotGrouper Version: 1.26.0 Command: /home/biocbuild/bbs-3.21-bioc/R/bin/R CMD INSTALL plotGrouper StartedAt: 2025-10-15 15:09:04 -0400 (Wed, 15 Oct 2025) EndedAt: 2025-10-15 15:09:16 -0400 (Wed, 15 Oct 2025) EllapsedTime: 12.6 seconds RetCode: 0 Status: OK