Package: plotGrouper Version: 1.26.0 Command: /home/biocbuild/bbs-3.21-bioc/R/bin/R CMD build --keep-empty-dirs --no-resave-data plotGrouper StartedAt: 2025-10-15 19:10:10 -0400 (Wed, 15 Oct 2025) EndedAt: 2025-10-15 19:10:19 -0400 (Wed, 15 Oct 2025) EllapsedTime: 9.0 seconds RetCode: 0 Status: OK PackageFile: plotGrouper_1.26.0.tar.gz PackageFileSize: 704.7 KiB