Package: plotGrouper Version: 1.26.0 Command: /Library/Frameworks/R.framework/Resources/bin/R CMD build --keep-empty-dirs --no-resave-data plotGrouper StartedAt: 2025-10-14 06:39:59 -0400 (Tue, 14 Oct 2025) EndedAt: 2025-10-14 06:40:11 -0400 (Tue, 14 Oct 2025) EllapsedTime: 12.5 seconds RetCode: 0 Status: OK PackageFile: plotGrouper_1.26.0.tar.gz PackageFileSize: 704.6 KiB