Package: plasmut Version: 1.6.0 Command: /home/biocbuild/R/R/bin/R CMD INSTALL plasmut StartedAt: 2025-10-13 20:21:10 -0000 (Mon, 13 Oct 2025) EndedAt: 2025-10-13 20:21:22 -0000 (Mon, 13 Oct 2025) EllapsedTime: 12.1 seconds RetCode: 0 Status: OK