Package: plasmut Version: 1.6.0 Command: /home/biocbuild/R/R/bin/R CMD build --keep-empty-dirs --no-resave-data plasmut StartedAt: 2025-10-14 03:33:27 -0000 (Tue, 14 Oct 2025) EndedAt: 2025-10-14 03:36:30 -0000 (Tue, 14 Oct 2025) EllapsedTime: 183.1 seconds RetCode: 0 Status: OK PackageFile: plasmut_1.6.0.tar.gz PackageFileSize: 361.3 KiB