Package: pipeFrame Version: 1.24.0 Command: /home/biocbuild/R/R/bin/R CMD INSTALL pipeFrame StartedAt: 2025-10-13 21:14:21 -0000 (Mon, 13 Oct 2025) EndedAt: 2025-10-13 21:15:06 -0000 (Mon, 13 Oct 2025) EllapsedTime: 44.9 seconds RetCode: 0 Status: OK