Package: pipeFrame Version: 1.24.0 Command: /home/biocbuild/R/R/bin/R CMD build --keep-empty-dirs --no-resave-data pipeFrame StartedAt: 2025-10-14 03:32:39 -0000 (Tue, 14 Oct 2025) EndedAt: 2025-10-14 03:33:51 -0000 (Tue, 14 Oct 2025) EllapsedTime: 72.0 seconds RetCode: 0 Status: OK PackageFile: pipeFrame_1.24.0.tar.gz PackageFileSize: 1.347 MiB