Package: pipeFrame Version: 1.24.0 Command: /Library/Frameworks/R.framework/Resources/bin/R CMD INSTALL pipeFrame StartedAt: 2025-10-13 18:29:11 -0400 (Mon, 13 Oct 2025) EndedAt: 2025-10-13 18:29:49 -0400 (Mon, 13 Oct 2025) EllapsedTime: 38.0 seconds RetCode: 0 Status: OK