Package: pipeFrame Version: 1.24.0 Command: /Library/Frameworks/R.framework/Resources/bin/R CMD build --keep-empty-dirs --no-resave-data pipeFrame StartedAt: 2025-10-14 06:37:19 -0400 (Tue, 14 Oct 2025) EndedAt: 2025-10-14 06:38:27 -0400 (Tue, 14 Oct 2025) EllapsedTime: 68.4 seconds RetCode: 0 Status: OK PackageFile: pipeFrame_1.24.0.tar.gz PackageFileSize: 1.195 MiB