Package: pipeComp Version: 1.18.0 Command: /home/biocbuild/bbs-3.21-bioc/R/bin/R CMD INSTALL pipeComp StartedAt: 2025-10-15 15:55:34 -0400 (Wed, 15 Oct 2025) EndedAt: 2025-10-15 15:56:35 -0400 (Wed, 15 Oct 2025) EllapsedTime: 60.7 seconds RetCode: 0 Status: OK