Package: pipeComp Version: 1.18.0 Command: /Library/Frameworks/R.framework/Resources/bin/R CMD INSTALL pipeComp StartedAt: 2025-10-13 16:43:43 -0400 (Mon, 13 Oct 2025) EndedAt: 2025-10-13 16:45:50 -0400 (Mon, 13 Oct 2025) EllapsedTime: 127.4 seconds RetCode: 0 Status: OK