Package: pipeComp Version: 1.18.0 Command: /Library/Frameworks/R.framework/Resources/bin/R CMD build --keep-empty-dirs --no-resave-data pipeComp StartedAt: 2025-10-13 21:34:15 -0400 (Mon, 13 Oct 2025) EndedAt: 2025-10-13 21:37:47 -0400 (Mon, 13 Oct 2025) EllapsedTime: 212.0 seconds RetCode: 0 Status: OK PackageFile: pipeComp_1.18.0.tar.gz PackageFileSize: 4.006 MiB