Package: pipeComp Version: 1.18.0 Command: /Library/Frameworks/R.framework/Resources/bin/R CMD build --keep-empty-dirs --no-resave-data pipeComp StartedAt: 2025-10-14 06:36:43 -0400 (Tue, 14 Oct 2025) EndedAt: 2025-10-14 06:38:54 -0400 (Tue, 14 Oct 2025) EllapsedTime: 131.6 seconds RetCode: 0 Status: OK PackageFile: pipeComp_1.18.0.tar.gz PackageFileSize: 4.006 MiB