Package: phyloseq Version: 1.52.0 Command: /home/biocbuild/R/R/bin/R CMD INSTALL phyloseq StartedAt: 2025-10-13 20:29:20 -0000 (Mon, 13 Oct 2025) EndedAt: 2025-10-13 20:29:58 -0000 (Mon, 13 Oct 2025) EllapsedTime: 38.3 seconds RetCode: 0 Status: OK