Package: phyloseq Version: 1.52.0 Command: /home/biocbuild/R/R/bin/R CMD build --keep-empty-dirs --no-resave-data phyloseq StartedAt: 2025-10-14 03:32:06 -0000 (Tue, 14 Oct 2025) EndedAt: 2025-10-14 03:34:30 -0000 (Tue, 14 Oct 2025) EllapsedTime: 144.1 seconds RetCode: 0 Status: OK PackageFile: phyloseq_1.52.0.tar.gz PackageFileSize: 5.761 MiB