Package: phosphonormalizer Version: 1.32.0 Command: /home/biocbuild/R/R/bin/R CMD INSTALL phosphonormalizer StartedAt: 2025-10-13 20:15:00 -0000 (Mon, 13 Oct 2025) EndedAt: 2025-10-13 20:15:20 -0000 (Mon, 13 Oct 2025) EllapsedTime: 19.7 seconds RetCode: 0 Status: OK