Package: phosphonormalizer Version: 1.32.0 Command: /Library/Frameworks/R.framework/Resources/bin/R CMD build --keep-empty-dirs --no-resave-data phosphonormalizer StartedAt: 2025-10-14 06:34:05 -0400 (Tue, 14 Oct 2025) EndedAt: 2025-10-14 06:34:20 -0400 (Tue, 14 Oct 2025) EllapsedTime: 14.7 seconds RetCode: 0 Status: OK PackageFile: phosphonormalizer_1.32.0.tar.gz PackageFileSize: 2.7 MiB